BEGIN:VCALENDAR
VERSION:2.0
PRODID:-//Kai Huckenbeck Speedway - ECPv6.15.20//NONSGML v1.0//EN
CALSCALE:GREGORIAN
METHOD:PUBLISH
X-WR-CALNAME:Kai Huckenbeck Speedway
X-ORIGINAL-URL:https://www.huckenbeck-speedway.de
X-WR-CALDESC:Veranstaltungen für Kai Huckenbeck Speedway
REFRESH-INTERVAL;VALUE=DURATION:PT1H
X-Robots-Tag:noindex
X-PUBLISHED-TTL:PT1H
BEGIN:VTIMEZONE
TZID:Europe/Berlin
BEGIN:DAYLIGHT
TZOFFSETFROM:+0100
TZOFFSETTO:+0200
TZNAME:CEST
DTSTART:20240331T010000
END:DAYLIGHT
BEGIN:STANDARD
TZOFFSETFROM:+0200
TZOFFSETTO:+0100
TZNAME:CET
DTSTART:20241027T010000
END:STANDARD
BEGIN:DAYLIGHT
TZOFFSETFROM:+0100
TZOFFSETTO:+0200
TZNAME:CEST
DTSTART:20250330T010000
END:DAYLIGHT
BEGIN:STANDARD
TZOFFSETFROM:+0200
TZOFFSETTO:+0100
TZNAME:CET
DTSTART:20251026T010000
END:STANDARD
BEGIN:DAYLIGHT
TZOFFSETFROM:+0100
TZOFFSETTO:+0200
TZNAME:CEST
DTSTART:20260329T010000
END:DAYLIGHT
BEGIN:STANDARD
TZOFFSETFROM:+0200
TZOFFSETTO:+0100
TZNAME:CET
DTSTART:20261025T010000
END:STANDARD
END:VTIMEZONE
BEGIN:VEVENT
DTSTART;VALUE=DATE:20250603
DTEND;VALUE=DATE:20250604
DTSTAMP:20260422T193116
CREATED:20250117T215103Z
LAST-MODIFIED:20250117T215103Z
UID:7578-1748908800-1748995199@www.huckenbeck-speedway.de
SUMMARY:Bauhaus Ligan Elitserie: Piraterna - Rospiggarna
DESCRIPTION:
URL:https://www.huckenbeck-speedway.de/event/bauhaus-ligan-elitserie-piraterna-rospiggarna/
CATEGORIES:Bauhaus Ligan Elitserie
END:VEVENT
BEGIN:VEVENT
DTSTART;VALUE=DATE:20250608
DTEND;VALUE=DATE:20250609
DTSTAMP:20260422T193116
CREATED:20241226T192943Z
LAST-MODIFIED:20241226T192943Z
UID:7522-1749340800-1749427199@www.huckenbeck-speedway.de
SUMMARY:Metalkas 2. Ekstraliga - Runde 6: Ostrów - Bydgoszcz
DESCRIPTION:
URL:https://www.huckenbeck-speedway.de/event/metalkas-2-ekstraliga-runde-6-ostrow-bydgoszcz/
CATEGORIES:Metalkas 2. Ekstraliga
END:VEVENT
BEGIN:VEVENT
DTSTART;VALUE=DATE:20250609
DTEND;VALUE=DATE:20250610
DTSTAMP:20260422T193116
CREATED:20250604T193639Z
LAST-MODIFIED:20250604T193639Z
UID:7845-1749427200-1749513599@www.huckenbeck-speedway.de
SUMMARY:FIM Speedway Grand Prix Quali - Abensberg
DESCRIPTION:
URL:https://www.huckenbeck-speedway.de/event/fim-speedway-grand-prix-quali-abensberg/
END:VEVENT
BEGIN:VEVENT
DTSTART;VALUE=DATE:20250613
DTEND;VALUE=DATE:20250614
DTSTAMP:20260422T193116
CREATED:20241226T185316Z
LAST-MODIFIED:20241226T185316Z
UID:7491-1749772800-1749859199@www.huckenbeck-speedway.de
SUMMARY:FIM Speedway Grand Prix 4 - Manchester/ Großbritannien
DESCRIPTION:
URL:https://www.huckenbeck-speedway.de/event/fim-speedway-grand-prix-4-manchester-grossbritannien/
LOCATION:Speedway Stadion Manchester\, Kirkmanshulme Ln\, Manchester\, M12 4WB
CATEGORIES:FIM Speedway Grand Prix
END:VEVENT
BEGIN:VEVENT
DTSTART;VALUE=DATE:20250614
DTEND;VALUE=DATE:20250615
DTSTAMP:20260422T193116
CREATED:20241226T185535Z
LAST-MODIFIED:20241226T185535Z
UID:7495-1749859200-1749945599@www.huckenbeck-speedway.de
SUMMARY:FIM Speedway Grand Prix 5 - Manchester/ Großbritannien
DESCRIPTION:
URL:https://www.huckenbeck-speedway.de/event/fim-speedway-grand-prix-5-manchester-grossbritannien/
LOCATION:Speedway Stadion Manchester\, Kirkmanshulme Ln\, Manchester\, M12 4WB
CATEGORIES:FIM Speedway Grand Prix
END:VEVENT
BEGIN:VEVENT
DTSTART;VALUE=DATE:20250615
DTEND;VALUE=DATE:20250616
DTSTAMP:20260422T193116
CREATED:20241226T193115Z
LAST-MODIFIED:20241226T193115Z
UID:7524-1749945600-1750031999@www.huckenbeck-speedway.de
SUMMARY:Metalkas 2. Ekstraliga - Runde 7: Bydgoszcz - Tarnów
DESCRIPTION:
URL:https://www.huckenbeck-speedway.de/event/metalkas-2-ekstraliga-runde-7-bydgoszcz-tarnow/
CATEGORIES:Metalkas 2. Ekstraliga
END:VEVENT
BEGIN:VEVENT
DTSTART;VALUE=DATE:20250617
DTEND;VALUE=DATE:20250618
DTSTAMP:20260422T193116
CREATED:20250117T215222Z
LAST-MODIFIED:20250117T215222Z
UID:7580-1750118400-1750204799@www.huckenbeck-speedway.de
SUMMARY:Bauhaus Ligan Elitserie: Rospiggarna - Västervik
DESCRIPTION:
URL:https://www.huckenbeck-speedway.de/event/bauhaus-ligan-elitserie-rospiggarna-vaestervik/
CATEGORIES:Bauhaus Ligan Elitserie
END:VEVENT
BEGIN:VEVENT
DTSTART;VALUE=DATE:20250621
DTEND;VALUE=DATE:20250622
DTSTAMP:20260422T193116
CREATED:20241226T185811Z
LAST-MODIFIED:20241226T185811Z
UID:7497-1750464000-1750550399@www.huckenbeck-speedway.de
SUMMARY:FIM Speedway Grand Prix 6 - Gorzow/ Polen
DESCRIPTION:
URL:https://www.huckenbeck-speedway.de/event/fim-speedway-grand-prix-6-gorzow-polen/
LOCATION:Edward Jancarz Stadion\, Kwiatowa 66\, Gorzów\, 66-400\, Poland
CATEGORIES:FIM Speedway Grand Prix
END:VEVENT
BEGIN:VEVENT
DTSTART;VALUE=DATE:20250626
DTEND;VALUE=DATE:20250627
DTSTAMP:20260422T193116
CREATED:20241230T190718Z
LAST-MODIFIED:20241230T190718Z
UID:7531-1750896000-1750982399@www.huckenbeck-speedway.de
SUMMARY:Metalkas 2. Ekstraliga - Runde 9: Bydgoszcz - Ostrów
DESCRIPTION:
URL:https://www.huckenbeck-speedway.de/event/metalkas-2-ekstraliga-runde-9-bydgoszcz-ostrow/
CATEGORIES:Metalkas 2. Ekstraliga
END:VEVENT
END:VCALENDAR