BEGIN:VCALENDAR
VERSION:2.0
PRODID:-//Kai Huckenbeck Speedway - ECPv6.15.20//NONSGML v1.0//EN
CALSCALE:GREGORIAN
METHOD:PUBLISH
X-ORIGINAL-URL:https://www.huckenbeck-speedway.de
X-WR-CALDESC:Veranstaltungen für Kai Huckenbeck Speedway
REFRESH-INTERVAL;VALUE=DURATION:PT1H
X-Robots-Tag:noindex
X-PUBLISHED-TTL:PT1H
BEGIN:VTIMEZONE
TZID:Europe/Berlin
BEGIN:DAYLIGHT
TZOFFSETFROM:+0100
TZOFFSETTO:+0200
TZNAME:CEST
DTSTART:20240331T010000
END:DAYLIGHT
BEGIN:STANDARD
TZOFFSETFROM:+0200
TZOFFSETTO:+0100
TZNAME:CET
DTSTART:20241027T010000
END:STANDARD
BEGIN:DAYLIGHT
TZOFFSETFROM:+0100
TZOFFSETTO:+0200
TZNAME:CEST
DTSTART:20250330T010000
END:DAYLIGHT
BEGIN:STANDARD
TZOFFSETFROM:+0200
TZOFFSETTO:+0100
TZNAME:CET
DTSTART:20251026T010000
END:STANDARD
BEGIN:DAYLIGHT
TZOFFSETFROM:+0100
TZOFFSETTO:+0200
TZNAME:CEST
DTSTART:20260329T010000
END:DAYLIGHT
BEGIN:STANDARD
TZOFFSETFROM:+0200
TZOFFSETTO:+0100
TZNAME:CET
DTSTART:20261025T010000
END:STANDARD
END:VTIMEZONE
BEGIN:VEVENT
DTSTART;VALUE=DATE:20250701
DTEND;VALUE=DATE:20250702
DTSTAMP:20260422T180423
CREATED:20250117T215337Z
LAST-MODIFIED:20250117T215337Z
UID:7582-1751328000-1751414399@www.huckenbeck-speedway.de
SUMMARY:Bauhaus Ligan Elitserie: Västervik - Rospiggarna
DESCRIPTION:
URL:https://www.huckenbeck-speedway.de/event/bauhaus-ligan-elitserie-vaestervik-rospiggarna/
CATEGORIES:Bauhaus Ligan Elitserie
END:VEVENT
BEGIN:VEVENT
DTSTART;VALUE=DATE:20250705
DTEND;VALUE=DATE:20250706
DTSTAMP:20260422T180423
CREATED:20241226T190040Z
LAST-MODIFIED:20241226T190040Z
UID:7500-1751673600-1751759999@www.huckenbeck-speedway.de
SUMMARY:FIM Speedway Grand Prix 7 - Malilla/ Schweden
DESCRIPTION:
URL:https://www.huckenbeck-speedway.de/event/fim-speedway-grand-prix-7-malilla-schweden/
LOCATION:Skrotfrag Arena\, Malilla\, 570 82\, Sweden
CATEGORIES:FIM Speedway Grand Prix
END:VEVENT
BEGIN:VEVENT
DTSTART;VALUE=DATE:20250706
DTEND;VALUE=DATE:20250707
DTSTAMP:20260422T180423
CREATED:20241230T193437Z
LAST-MODIFIED:20241230T193437Z
UID:7533-1751760000-1751846399@www.huckenbeck-speedway.de
SUMMARY:Metalkas 2. Ekstraliga - Runde 10: Poznań - Bydgoszcz
DESCRIPTION:
URL:https://www.huckenbeck-speedway.de/event/metalkas-2-ekstraliga-runde-10-poznan-bydgoszcz/
CATEGORIES:Metalkas 2. Ekstraliga
END:VEVENT
BEGIN:VEVENT
DTSTART;VALUE=DATE:20250708
DTEND;VALUE=DATE:20250709
DTSTAMP:20260422T180423
CREATED:20250117T215454Z
LAST-MODIFIED:20250117T215454Z
UID:7584-1751932800-1752019199@www.huckenbeck-speedway.de
SUMMARY:Bauhaus Ligan Elitserie: Rospiggarna - Lejonen
DESCRIPTION:
URL:https://www.huckenbeck-speedway.de/event/bauhaus-ligan-elitserie-rospiggarna-lejonen/
CATEGORIES:Bauhaus Ligan Elitserie
END:VEVENT
BEGIN:VEVENT
DTSTART;VALUE=DATE:20250709
DTEND;VALUE=DATE:20250710
DTSTAMP:20260422T180423
CREATED:20250117T215626Z
LAST-MODIFIED:20250117T215626Z
UID:7586-1752019200-1752105599@www.huckenbeck-speedway.de
SUMMARY:Bauhaus Ligan Elitserie: Lejonen - Rospiggarna
DESCRIPTION:
URL:https://www.huckenbeck-speedway.de/event/bauhaus-ligan-elitserie-lejonen-rospiggarna/
CATEGORIES:Bauhaus Ligan Elitserie
END:VEVENT
BEGIN:VEVENT
DTSTART;VALUE=DATE:20250713
DTEND;VALUE=DATE:20250714
DTSTAMP:20260422T180423
CREATED:20241230T193611Z
LAST-MODIFIED:20241230T193611Z
UID:7535-1752364800-1752451199@www.huckenbeck-speedway.de
SUMMARY:Metalkas 2. Ekstraliga - Runde 11: Krosno - Bydgoszcz
DESCRIPTION:
URL:https://www.huckenbeck-speedway.de/event/metalkas-2-ekstraliga-runde-11-krosno-bydgoszcz/
CATEGORIES:Metalkas 2. Ekstraliga
END:VEVENT
BEGIN:VEVENT
DTSTART;VALUE=DATE:20250722
DTEND;VALUE=DATE:20250723
DTSTAMP:20260422T180423
CREATED:20250117T215810Z
LAST-MODIFIED:20250117T215810Z
UID:7588-1753142400-1753228799@www.huckenbeck-speedway.de
SUMMARY:Bauhaus Ligan Elitserie: Rospiggarna - Indianerna
DESCRIPTION:
URL:https://www.huckenbeck-speedway.de/event/bauhaus-ligan-elitserie-rospiggarna-indianerna/
CATEGORIES:Bauhaus Ligan Elitserie
END:VEVENT
BEGIN:VEVENT
DTSTART;VALUE=DATE:20250723
DTEND;VALUE=DATE:20250724
DTSTAMP:20260422T180423
CREATED:20250117T215945Z
LAST-MODIFIED:20250117T215945Z
UID:7590-1753228800-1753315199@www.huckenbeck-speedway.de
SUMMARY:Bauhaus Ligan Elitserie: Dackarna - Rospiggarna
DESCRIPTION:
URL:https://www.huckenbeck-speedway.de/event/bauhaus-ligan-elitserie-dackarna-rospiggarna/
CATEGORIES:Bauhaus Ligan Elitserie
END:VEVENT
BEGIN:VEVENT
DTSTART;VALUE=DATE:20250726
DTEND;VALUE=DATE:20250727
DTSTAMP:20260422T180423
CREATED:20250717T185835Z
LAST-MODIFIED:20250717T185835Z
UID:7951-1753488000-1753574399@www.huckenbeck-speedway.de
SUMMARY:Tauron SEC Round II - Güstrow
DESCRIPTION:
URL:https://www.huckenbeck-speedway.de/event/tauron-sec-round-ii-guestrow/
END:VEVENT
BEGIN:VEVENT
DTSTART;VALUE=DATE:20250727
DTEND;VALUE=DATE:20250728
DTSTAMP:20260422T180423
CREATED:20241230T193749Z
LAST-MODIFIED:20241230T193749Z
UID:7537-1753574400-1753660799@www.huckenbeck-speedway.de
SUMMARY:Metalkas 2. Ekstraliga - Runde 12: Bydgoszcz - Leszno
DESCRIPTION:
URL:https://www.huckenbeck-speedway.de/event/metalkas-2-ekstraliga-runde-12-bydgoszcz-leszno/
CATEGORIES:Metalkas 2. Ekstraliga
END:VEVENT
BEGIN:VEVENT
DTSTART;VALUE=DATE:20250730
DTEND;VALUE=DATE:20250731
DTSTAMP:20260422T180423
CREATED:20250727T142639Z
LAST-MODIFIED:20250727T142639Z
UID:7976-1753833600-1753919999@www.huckenbeck-speedway.de
SUMMARY:Speedway Ligaen: GSK Grindsted Speedway Klub - Holsted Tigers
DESCRIPTION:
URL:https://www.huckenbeck-speedway.de/event/speedway-ligaen-gsk-grindsted-speedway-klub-holsted-tigers/
END:VEVENT
END:VCALENDAR