BEGIN:VCALENDAR
VERSION:2.0
PRODID:-//Kai Huckenbeck Speedway - ECPv6.15.20//NONSGML v1.0//EN
CALSCALE:GREGORIAN
METHOD:PUBLISH
X-WR-CALNAME:Kai Huckenbeck Speedway
X-ORIGINAL-URL:https://www.huckenbeck-speedway.de
X-WR-CALDESC:Veranstaltungen für Kai Huckenbeck Speedway
REFRESH-INTERVAL;VALUE=DURATION:PT1H
X-Robots-Tag:noindex
X-PUBLISHED-TTL:PT1H
BEGIN:VTIMEZONE
TZID:Europe/Berlin
BEGIN:DAYLIGHT
TZOFFSETFROM:+0100
TZOFFSETTO:+0200
TZNAME:CEST
DTSTART:20240331T010000
END:DAYLIGHT
BEGIN:STANDARD
TZOFFSETFROM:+0200
TZOFFSETTO:+0100
TZNAME:CET
DTSTART:20241027T010000
END:STANDARD
BEGIN:DAYLIGHT
TZOFFSETFROM:+0100
TZOFFSETTO:+0200
TZNAME:CEST
DTSTART:20250330T010000
END:DAYLIGHT
BEGIN:STANDARD
TZOFFSETFROM:+0200
TZOFFSETTO:+0100
TZNAME:CET
DTSTART:20251026T010000
END:STANDARD
BEGIN:DAYLIGHT
TZOFFSETFROM:+0100
TZOFFSETTO:+0200
TZNAME:CEST
DTSTART:20260329T010000
END:DAYLIGHT
BEGIN:STANDARD
TZOFFSETFROM:+0200
TZOFFSETTO:+0100
TZNAME:CET
DTSTART:20261025T010000
END:STANDARD
END:VTIMEZONE
BEGIN:VEVENT
DTSTART;VALUE=DATE:20250802
DTEND;VALUE=DATE:20250803
DTSTAMP:20260422T164021
CREATED:20241226T190430Z
LAST-MODIFIED:20241226T190430Z
UID:7503-1754092800-1754179199@www.huckenbeck-speedway.de
SUMMARY:FIM Speedway Grand Prix 8 - Riga/ Lettland
DESCRIPTION:
URL:https://www.huckenbeck-speedway.de/event/fim-speedway-grand-prix-8-riga-lettland/
LOCATION:Bikernieki Stadion\, Sergeja Eizenšteina iela 16\, Riga\, LV-1079\, Latvia
CATEGORIES:FIM Speedway Grand Prix
END:VEVENT
BEGIN:VEVENT
DTSTART;VALUE=DATE:20250803
DTEND;VALUE=DATE:20250804
DTSTAMP:20260422T164021
CREATED:20241230T194008Z
LAST-MODIFIED:20241230T194008Z
UID:7540-1754179200-1754265599@www.huckenbeck-speedway.de
SUMMARY:Metalkas 2. Ekstraliga - Runde 13: Rzeszów - Bydgoszcz
DESCRIPTION:
URL:https://www.huckenbeck-speedway.de/event/metalkas-2-ekstraliga-runde-13-rzeszow-bydgoszcz/
CATEGORIES:Metalkas 2. Ekstraliga
END:VEVENT
BEGIN:VEVENT
DTSTART;VALUE=DATE:20250809
DTEND;VALUE=DATE:20250810
DTSTAMP:20260422T164021
CREATED:20250622T112030Z
LAST-MODIFIED:20250622T112030Z
UID:7895-1754697600-1754783999@www.huckenbeck-speedway.de
SUMMARY:FIM Speedway Grand Prix Challenge - Holsted/ DK
DESCRIPTION:
URL:https://www.huckenbeck-speedway.de/event/fim-speedway-grand-prix-challenge-holsted-dk/
END:VEVENT
BEGIN:VEVENT
DTSTART;VALUE=DATE:20250810
DTEND;VALUE=DATE:20250811
DTSTAMP:20260422T164021
CREATED:20241230T194333Z
LAST-MODIFIED:20241230T194333Z
UID:7542-1754784000-1754870399@www.huckenbeck-speedway.de
SUMMARY:Metalkas 2. Ekstraliga - Runde 14: Bydgoszcz - Łódż
DESCRIPTION:
URL:https://www.huckenbeck-speedway.de/event/metalkas-2-ekstraliga-runde-14-bydgoszcz-lodz/
CATEGORIES:Metalkas 2. Ekstraliga
END:VEVENT
BEGIN:VEVENT
DTSTART;VALUE=DATE:20250812
DTEND;VALUE=DATE:20250813
DTSTAMP:20260422T164021
CREATED:20250117T220428Z
LAST-MODIFIED:20250117T220428Z
UID:7596-1754956800-1755043199@www.huckenbeck-speedway.de
SUMMARY:Bauhaus Ligan Elitserie: Rospiggarna - Smederna
DESCRIPTION:
URL:https://www.huckenbeck-speedway.de/event/bauhaus-ligan-elitserie-rospiggarna-smederna/
CATEGORIES:Bauhaus Ligan Elitserie
END:VEVENT
BEGIN:VEVENT
DTSTART;VALUE=DATE:20250822
DTEND;VALUE=DATE:20250823
DTSTAMP:20260422T164021
CREATED:20250803T111445Z
LAST-MODIFIED:20250803T111445Z
UID:7992-1755820800-1755907199@www.huckenbeck-speedway.de
SUMMARY:Deutsche Speedway Einzelmeisterschaft - Güstrow (Runde 1)
DESCRIPTION:
URL:https://www.huckenbeck-speedway.de/event/deutsche-speedway-einzelmeisterschaft-guestrow-runde-1/
END:VEVENT
BEGIN:VEVENT
DTSTART;VALUE=DATE:20250823
DTEND;VALUE=DATE:20250824
DTSTAMP:20260422T164021
CREATED:20250803T111549Z
LAST-MODIFIED:20250803T111549Z
UID:7994-1755907200-1755993599@www.huckenbeck-speedway.de
SUMMARY:Deutsche Speedway Einzelmeisterschaft - Stralsund (Runde 2)
DESCRIPTION:
URL:https://www.huckenbeck-speedway.de/event/deutsche-speedway-einzelmeisterschaft-stralsund-runde-2/
END:VEVENT
BEGIN:VEVENT
DTSTART;VALUE=DATE:20250824
DTEND;VALUE=DATE:20250825
DTSTAMP:20260422T164021
CREATED:20250811T160557Z
LAST-MODIFIED:20250811T160829Z
UID:8025-1755993600-1756079999@www.huckenbeck-speedway.de
SUMMARY:Metalkas 2. Ekstraliga Halbfinale: Krosno - Bydgoszcz
DESCRIPTION:
URL:https://www.huckenbeck-speedway.de/event/metalkas-2-ekstraliga-play-offs-krosno-bydgoszcz/
CATEGORIES:Metalkas 2. Ekstraliga
END:VEVENT
BEGIN:VEVENT
DTSTART;VALUE=DATE:20250826
DTEND;VALUE=DATE:20250827
DTSTAMP:20260422T164021
CREATED:20250820T180830Z
LAST-MODIFIED:20250820T180830Z
UID:8041-1756166400-1756252799@www.huckenbeck-speedway.de
SUMMARY:Bauhaus Ligan Halbfinale 2 : Lejonen - Rospiggarna
DESCRIPTION:
URL:https://www.huckenbeck-speedway.de/event/bauhaus-ligan-halbfinale-2-lejonen-rospiggarna/
END:VEVENT
BEGIN:VEVENT
DTSTART;VALUE=DATE:20250830
DTEND;VALUE=DATE:20250831
DTSTAMP:20260422T164021
CREATED:20241226T190723Z
LAST-MODIFIED:20241226T190723Z
UID:7506-1756512000-1756598399@www.huckenbeck-speedway.de
SUMMARY:FIM Speedway Grand Prix 9 - Wroclaw/ Polen
DESCRIPTION:
URL:https://www.huckenbeck-speedway.de/event/fim-speedway-grand-prix-9-wroclaw-polen/
LOCATION:Olympia Stadion Wroclaw\, aleja Ignacego Jana Paderewskiego 35\, Wroclaw\, 51-612\, Poland
CATEGORIES:FIM Speedway Grand Prix
END:VEVENT
BEGIN:VEVENT
DTSTART;VALUE=DATE:20250831
DTEND;VALUE=DATE:20250901
DTSTAMP:20260422T164021
CREATED:20250811T160746Z
LAST-MODIFIED:20250811T160746Z
UID:8027-1756598400-1756684799@www.huckenbeck-speedway.de
SUMMARY:Metalkas 2. Ekstraliga Halbfinale: Bydgoszcz - Krosno
DESCRIPTION:
URL:https://www.huckenbeck-speedway.de/event/metalkas-2-ekstraliga-halbfinale-bydgoszcz-krosno/
CATEGORIES:Metalkas 2. Ekstraliga
END:VEVENT
END:VCALENDAR